BEGIN:VCALENDAR
VERSION:2.0
PRODID:-//Leibniz-Sozietät der Wissenschaften zu Berlin e.V. - ECPv6.13.1//NONSGML v1.0//EN
CALSCALE:GREGORIAN
METHOD:PUBLISH
X-WR-CALNAME:Leibniz-Sozietät der Wissenschaften zu Berlin e.V.
X-ORIGINAL-URL:https://leibnizsozietaet.de
X-WR-CALDESC:Veranstaltungen für Leibniz-Sozietät der Wissenschaften zu Berlin e.V.
REFRESH-INTERVAL;VALUE=DURATION:PT1H
X-Robots-Tag:noindex
X-PUBLISHED-TTL:PT1H
BEGIN:VTIMEZONE
TZID:Europe/Berlin
BEGIN:DAYLIGHT
TZOFFSETFROM:+0100
TZOFFSETTO:+0200
TZNAME:CEST
DTSTART:20230326T010000
END:DAYLIGHT
BEGIN:STANDARD
TZOFFSETFROM:+0200
TZOFFSETTO:+0100
TZNAME:CET
DTSTART:20231029T010000
END:STANDARD
END:VTIMEZONE
BEGIN:VEVENT
DTSTART;TZID=Europe/Berlin:20230609T140000
DTEND;TZID=Europe/Berlin:20230609T180000
DTSTAMP:20260423T012917
CREATED:20230523T095045Z
LAST-MODIFIED:20230523T095715Z
UID:26653-1686319200-1686333600@leibnizsozietaet.de
SUMMARY:AK Gesellschaftsanalyse: Zeitdiagnosen: Gesellschaften im Umbruch
DESCRIPTION:Der Arbeitskreis „Gesellschaftsanalyse“ der Leibniz-Sozietät lädt zur Diskussion \n„Aktuelle Zeitdiagnosen – Nancy Fraser: Der Allesfresser. Wie der Kapitalismus seine eigenen Grundlagen verschlingt“ (Suhrkamp 2023)      \nZeit: 9. Juni\, 14.00 bis 18.00 / Ort: Rosa-Luxemburg-Stiftung / Raum 5.16. \nMit dieser Diskussion leitet der Arbeitskreis eine neue Phase seiner Tätigkeit ein\, unter dem übergreifenden Thema: \n„Zeitdiagnosen: Gesellschaften im Umbruch – Analysen und transformatorische Chancen“ \nDiese Orientierung bietet die Chance\, bisher leitende Fragen und Perspektiven unserer Arbeit wieder aufzunehmen\, sie auf den aktuellen historischen Kontext zu beziehen und so zu konkretisieren\, zu modifizieren oder neue und weitergehende zu entwickeln. Komplexe\, tiefe und zum Teil dramatische Umbrüche\, bisher nicht gekannte ökonomische\, politische\, soziale\, technologische\, kulturelle Verwerfungen\, die oftmals und eher ideologisch-hilflos als „Zeitenwende“ gefasst werden\, stellen wissenschaftliche Analyse und Erklärung vor enorme\, durchaus neuartige Herausforderungen. Weder ist einfach zu beantworten\, woraus die einzelnen Umbrüche oder die Verwerfungen resultieren\, wie sie miteinander zusammenhängen noch ist das die Frage\, welche Konsequenzen und möglicherweise Neuorientierungen damit verbunden sind. Eines jedoch scheint klar: In nahezu allen Dimensionen menschlicher Zivilisation stellen sich sehr grundsätzliche Fragen. \nDas unlängst erschienene Buch von Nancy Fraser\, zu welchem vorab noch Informationen verschickt werden\, ist ein umfassender zeitdiagnostischer Entwurf\, mit welchem diesen komplexen Brüchen und Trends in modernen Gesellschaften auf herausfordernde\, interessante und auf radikale Art und Weise gefolgt wird. Das Buch eignet sich insofern\, um die Diskussion zu den Aussagen und Interpretationen der Autorin mit Fragen nach Herangehensweisen\, nach Konzeptualisierungen\, nach Eigenart und Relevanz der unterschiedlichen Umbrüche zu verbinden\, das aktuelle Diskursfeld aus unterschiedlichen disziplinären Sichten und mit möglichen Anschlussstellen aufzuschließen. Das betrifft vorliegende Analysen wie offene Fragestellungen und mögliche Beiträge zur Debatte. \nDie Auftaktsitzung am 9. Juni wird nach einer kurzen thematischen Einführung und Verständigung insbesondere Raum geben für die Auseinandersetzung mit dem genannten Buch. Dazu erfolgen kurze Einführungen. \nNach der Diskussion sollen übergreifende Fragen und thematische Interessen der Beteiligten aufgenommen und so das weitere Vorgehen im Arbeitskreis abgesteckt werden. \nInteressierte sind herzlich eingeladen! Da es sich um eine Auftaktsitzung handelt\, ist eine Anmeldung der Teilnahme hilfreich. \nDafür und für weitere Fragen: Thomas.Micha@t-online.de
URL:https://leibnizsozietaet.de/event/ak-gesellschaftsanalyse-zeitdiagnosen-gesellschaften-im-umbruch/
LOCATION:Rosa Luxemburg Stiftung\, Straße der Pariser Kommune 8A\, Berlin\, 10243
CATEGORIES:Arbeitskreise
END:VEVENT
END:VCALENDAR