BEGIN:VCALENDAR
VERSION:2.0
PRODID:-//Leibniz-Sozietät der Wissenschaften zu Berlin e.V. - ECPv6.13.1//NONSGML v1.0//EN
CALSCALE:GREGORIAN
METHOD:PUBLISH
X-WR-CALNAME:Leibniz-Sozietät der Wissenschaften zu Berlin e.V.
X-ORIGINAL-URL:https://leibnizsozietaet.de
X-WR-CALDESC:Veranstaltungen für Leibniz-Sozietät der Wissenschaften zu Berlin e.V.
REFRESH-INTERVAL;VALUE=DURATION:PT1H
X-Robots-Tag:noindex
X-PUBLISHED-TTL:PT1H
BEGIN:VTIMEZONE
TZID:Europe/Berlin
BEGIN:DAYLIGHT
TZOFFSETFROM:+0100
TZOFFSETTO:+0200
TZNAME:CEST
DTSTART:20260329T010000
END:DAYLIGHT
BEGIN:STANDARD
TZOFFSETFROM:+0200
TZOFFSETTO:+0100
TZNAME:CET
DTSTART:20261025T010000
END:STANDARD
END:VTIMEZONE
BEGIN:VEVENT
DTSTART;TZID=Europe/Berlin:20260424T140000
DTEND;TZID=Europe/Berlin:20260424T163000
DTSTAMP:20260424T162534
CREATED:20260323T190431Z
LAST-MODIFIED:20260403T092701Z
UID:32256-1777039200-1777048200@leibnizsozietaet.de
SUMMARY:Wer und was bewegt Geschichte? Kolloquium in Erinnerung an Wolfgang Küttler (1936-2024)
DESCRIPTION:Die Veranstaltung findet im hybriden Format statt. Um die Zoom-Daten zu erhalten\, schreiben Sie bitte eine E-Mail an g.hassler@leibnizsozietaet.de.  \nDas Kolloquium der Leibniz-Sozietät der Wissenschaften zu Berlin e. V. ist dem Wirken ihres 2024 verstorbenen Mitglieds Wolfgang Küttler gewidmet. Übergreifend soll den Fragen nachgegangen werden\, wer Geschichte unter welchen Konstellationen bewegen kann sowie welche Einzelpersönlichkeiten und – durch ihr aktives Eingreifen oder ihre Passivität – Gruppen\, Klassen oder Volksmassen Geschichte prägen oder beeinflussen können. Dabei ist auch der Platz der Theorie- und Methodik-Diskussion in der der DDR im Vergleich mit dem internationalen Diskurs zu beleuchten. \nVorbereitungsgruppe: Jürgen Hofmann und Mario Keßler \nModeration: Präsidentin \nReferenten:  \nLutz Dieter Behrendt\, Deggendorf: Laudatio \nJürgen Kocka\, Berlin: Wolfgang Küttler und der deutsch-deutsche Geschichtsdiskurs (Arbeitstitel) \nJürgen Hofmann\, MLS: Wohin treibt die Geschichte? Formationstheoretische Überlegungen bei Wolfgang Küttler \nMario Keßler\, MLS: Was war die Sowjetunion und wohin trieb sie? Wolfgang Küttlers Formationsanalyse und Lenins Sowjetunion – im Wirbel historischer Ereignisse \nUlrich Busch\, MLS: Die Entwürfe von Marx für eine Antwort an Vera Sassulitsch und die Diskussion über den Kommunismus \nDieter Segert\, MLS: Der Begriff des Revolutionszyklus und die historische Einordnung der russischen Revolution von 1917
URL:https://leibnizsozietaet.de/event/wer-und-was-bewegt-geschichte-kolloquium-in-erinnerung-an-wolfgang-kuettler-1936-2024/
LOCATION:Rathaus Friedrichshagen\, Bölschestraße 87
END:VEVENT
END:VCALENDAR